BEGIN:VCALENDAR
VERSION:2.0
PRODID:-//Families Together in NYS - ECPv6.15.20//NONSGML v1.0//EN
CALSCALE:GREGORIAN
METHOD:PUBLISH
X-WR-CALNAME:Families Together in NYS
X-ORIGINAL-URL:https://www.ftnys.org
X-WR-CALDESC:Events for Families Together in NYS
REFRESH-INTERVAL;VALUE=DURATION:PT1H
X-Robots-Tag:noindex
X-PUBLISHED-TTL:PT1H
BEGIN:VTIMEZONE
TZID:America/New_York
BEGIN:DAYLIGHT
TZOFFSETFROM:-0500
TZOFFSETTO:-0400
TZNAME:EDT
DTSTART:20240310T070000
END:DAYLIGHT
BEGIN:STANDARD
TZOFFSETFROM:-0400
TZOFFSETTO:-0500
TZNAME:EST
DTSTART:20241103T060000
END:STANDARD
BEGIN:DAYLIGHT
TZOFFSETFROM:-0500
TZOFFSETTO:-0400
TZNAME:EDT
DTSTART:20250309T070000
END:DAYLIGHT
BEGIN:STANDARD
TZOFFSETFROM:-0400
TZOFFSETTO:-0500
TZNAME:EST
DTSTART:20251102T060000
END:STANDARD
BEGIN:DAYLIGHT
TZOFFSETFROM:-0500
TZOFFSETTO:-0400
TZNAME:EDT
DTSTART:20260308T070000
END:DAYLIGHT
BEGIN:STANDARD
TZOFFSETFROM:-0400
TZOFFSETTO:-0500
TZNAME:EST
DTSTART:20261101T060000
END:STANDARD
END:VTIMEZONE
BEGIN:VEVENT
DTSTART;VALUE=DATE:20250503
DTEND;VALUE=DATE:20250505
DTSTAMP:20260419T075617
CREATED:20250918T190114Z
LAST-MODIFIED:20250918T190128Z
UID:21178-1746230400-1746403199@www.ftnys.org
SUMMARY:2026 Annual Conference
DESCRIPTION:Save the Date!2026 Annual ConferenceBuilding Strong Roots for Success\n📅 May 3rd & 4th\, 2026📍 189 Wolf Rd\, Albany\, NY⏰ 9:00 AM – 4:30 PM (both days) \nWe are excited to welcome you to this year’s 2026 Annual Conference!Each session will highlight our commitment to a holistic approach to health and behavioral services—from empowering family peer support providers to advocating for community wellness. \nAs New York State’s family-run organization\, Families Together in New York State (FTNYS) represents\, supports\, and advocates for the voices of youth and families in policy and systems change. Together\, we strive for an equitable and inclusive journey that fosters belonging\, wellness\, and empowerment for all. \nWhat to Expect: \n\n\nInspiring keynote speakers & workshops \n\n\nNetworking with family advocates\, youth leaders\, and professionals \n\n\nPolicy discussions amplifying family and youth voices \n\n\nResources\, information\, and training opportunities \n\n\nWe look forward to gathering with attendees\, speakers\, and supporters to make this year’s conference impactful and memorable. \nRegistration details coming soon!
URL:https://www.ftnys.org/event/2026-annual-conference/
LOCATION:Marriot Hotel\, 189 Wolf Rd\, Albany\, NY\, 12205\, United States
ORGANIZER;CN="FTNYS":MAILTO:ywynter@ftnys.org
END:VEVENT
END:VCALENDAR