BEGIN:VCALENDAR
VERSION:2.0
PRODID:-//Families Together in NYS - ECPv6.15.20//NONSGML v1.0//EN
CALSCALE:GREGORIAN
METHOD:PUBLISH
X-WR-CALNAME:Families Together in NYS
X-ORIGINAL-URL:https://www.ftnys.org
X-WR-CALDESC:Events for Families Together in NYS
REFRESH-INTERVAL;VALUE=DURATION:PT1H
X-Robots-Tag:noindex
X-PUBLISHED-TTL:PT1H
BEGIN:VTIMEZONE
TZID:America/New_York
BEGIN:DAYLIGHT
TZOFFSETFROM:-0500
TZOFFSETTO:-0400
TZNAME:EDT
DTSTART:20240310T070000
END:DAYLIGHT
BEGIN:STANDARD
TZOFFSETFROM:-0400
TZOFFSETTO:-0500
TZNAME:EST
DTSTART:20241103T060000
END:STANDARD
BEGIN:DAYLIGHT
TZOFFSETFROM:-0500
TZOFFSETTO:-0400
TZNAME:EDT
DTSTART:20250309T070000
END:DAYLIGHT
BEGIN:STANDARD
TZOFFSETFROM:-0400
TZOFFSETTO:-0500
TZNAME:EST
DTSTART:20251102T060000
END:STANDARD
BEGIN:DAYLIGHT
TZOFFSETFROM:-0500
TZOFFSETTO:-0400
TZNAME:EDT
DTSTART:20260308T070000
END:DAYLIGHT
BEGIN:STANDARD
TZOFFSETFROM:-0400
TZOFFSETTO:-0500
TZNAME:EST
DTSTART:20261101T060000
END:STANDARD
END:VTIMEZONE
BEGIN:VEVENT
DTSTART;TZID=America/New_York:20250516T100000
DTEND;TZID=America/New_York:20250516T113000
DTSTAMP:20260419T205307
CREATED:20250513T150224Z
LAST-MODIFIED:20250515T173940Z
UID:20456-1747389600-1747395000@www.ftnys.org
SUMMARY:FPA Monthly TA Training
DESCRIPTION:Location: Zoom \nOccurs monthly on the third Friday from 10:00AM-11:30AM \nTrainings designed to meet the\neducation and professional\ndevelopments needs of Family Peer\nAdvocates. Active participation and\nengagement with these trainings will\nhelp FPAs obtain new skills and learn\nwith their colleagues across the\nstate. New topics offered monthly!\nTopic suggestions welcomed! \nREGISTER HERE!
URL:https://www.ftnys.org/event/fpa-monthly-ta-training-2/
END:VEVENT
END:VCALENDAR