BEGIN:VCALENDAR
VERSION:2.0
PRODID:-//Families Together in NYS - ECPv6.15.20//NONSGML v1.0//EN
CALSCALE:GREGORIAN
METHOD:PUBLISH
X-ORIGINAL-URL:https://www.ftnys.org
X-WR-CALDESC:Events for Families Together in NYS
REFRESH-INTERVAL;VALUE=DURATION:PT1H
X-Robots-Tag:noindex
X-PUBLISHED-TTL:PT1H
BEGIN:VTIMEZONE
TZID:America/New_York
BEGIN:DAYLIGHT
TZOFFSETFROM:-0500
TZOFFSETTO:-0400
TZNAME:EDT
DTSTART:20240310T070000
END:DAYLIGHT
BEGIN:STANDARD
TZOFFSETFROM:-0400
TZOFFSETTO:-0500
TZNAME:EST
DTSTART:20241103T060000
END:STANDARD
BEGIN:DAYLIGHT
TZOFFSETFROM:-0500
TZOFFSETTO:-0400
TZNAME:EDT
DTSTART:20250309T070000
END:DAYLIGHT
BEGIN:STANDARD
TZOFFSETFROM:-0400
TZOFFSETTO:-0500
TZNAME:EST
DTSTART:20251102T060000
END:STANDARD
BEGIN:DAYLIGHT
TZOFFSETFROM:-0500
TZOFFSETTO:-0400
TZNAME:EDT
DTSTART:20260308T070000
END:DAYLIGHT
BEGIN:STANDARD
TZOFFSETFROM:-0400
TZOFFSETTO:-0500
TZNAME:EST
DTSTART:20261101T060000
END:STANDARD
END:VTIMEZONE
BEGIN:VEVENT
DTSTART;TZID=America/New_York:20250520T080000
DTEND;TZID=America/New_York:20250521T170000
DTSTAMP:20260419T235752
CREATED:20250414T144611Z
LAST-MODIFIED:20250414T144611Z
UID:20338-1747728000-1747846800@www.ftnys.org
SUMMARY:MAY BASIC FANS  May 20 & 21\, 2025
DESCRIPTION:The Family Needs & Strengths (FANS) assessment and outcome tool for Family Peer Support is derived from the Child Needs & Strengths (CANS)\, developed by Dr. John Lyons.  Seeing the need for a Family Peer Support Services assessment and outcome tool was developed in partnership with New York State Western Region Family Peer Support Services Program Directors\, Dr. Lyons\, and strongly encouraged and endorsed by New York State Office of Mental Health. \nParticipants must complete the following:\n\nFull Training Schedule along with homework\nMust participate in-person (virtually) for full training schedule to be able to take the test and use the tool effectively!\nAs this is an interactive participatory training\, please have your camera on all the time.\nWe offer TA monthly calls to support you and the use of the tool with parents/caregivers.\nPlease plan on attending at least the first TA call after taking FANS Basic.\n\nAfter registering\, you will receive a confirmation email with link to join the meeting. \nClick here to register\nClick here to learn more.\n\n\n\n\n Add to calendar
URL:https://www.ftnys.org/event/may-basic-fans-may-20-21-2025/
END:VEVENT
BEGIN:VEVENT
DTSTART;TZID=America/New_York:20250520T120000
DTEND;TZID=America/New_York:20250520T133000
DTSTAMP:20260419T235752
CREATED:20250422T145012Z
LAST-MODIFIED:20250422T145012Z
UID:20396-1747742400-1747747800@www.ftnys.org
SUMMARY:Code of Ethics Training for Family Peer Advocates (FPAs)
DESCRIPTION:Location: Zoom \nFamily Peer Advocates (FPAs) provide invaluable support to families. One resource you have in guiding your work is the FPA Code of Ethics. These establish clear standards of conduct\, facilitate ethical decision-making\, and foster accountability among FPAs. This workshop will explore and enhance your understanding of the FPA Code of Ethics. Together\, we will consider the ethical and professional principles of the FPA throughout the professional role. You will also understand how to approach colleagues regarding ethical concerns and dilemmas. This includes situations where there may be an ethical violation and you may have to file a complaint. The process for investigation\, review and appeal will be reviewed. By the end of this offering\, FPAs will be equipped with the knowledge to uphold the Code of Ethics thereby fostering an environment of integrity and ethical conduct for themselves and the families they support. \nCLICK HERE TO REGISTER!
URL:https://www.ftnys.org/event/code-of-ethics-training-for-family-peer-advocates-fpas/
END:VEVENT
END:VCALENDAR