BEGIN:VCALENDAR
VERSION:2.0
PRODID:-//Families Together in NYS - ECPv6.15.20//NONSGML v1.0//EN
CALSCALE:GREGORIAN
METHOD:PUBLISH
X-WR-CALNAME:Families Together in NYS
X-ORIGINAL-URL:https://www.ftnys.org
X-WR-CALDESC:Events for Families Together in NYS
REFRESH-INTERVAL;VALUE=DURATION:PT1H
X-Robots-Tag:noindex
X-PUBLISHED-TTL:PT1H
BEGIN:VTIMEZONE
TZID:America/New_York
BEGIN:DAYLIGHT
TZOFFSETFROM:-0500
TZOFFSETTO:-0400
TZNAME:EDT
DTSTART:20240310T070000
END:DAYLIGHT
BEGIN:STANDARD
TZOFFSETFROM:-0400
TZOFFSETTO:-0500
TZNAME:EST
DTSTART:20241103T060000
END:STANDARD
BEGIN:DAYLIGHT
TZOFFSETFROM:-0500
TZOFFSETTO:-0400
TZNAME:EDT
DTSTART:20250309T070000
END:DAYLIGHT
BEGIN:STANDARD
TZOFFSETFROM:-0400
TZOFFSETTO:-0500
TZNAME:EST
DTSTART:20251102T060000
END:STANDARD
BEGIN:DAYLIGHT
TZOFFSETFROM:-0500
TZOFFSETTO:-0400
TZNAME:EDT
DTSTART:20260308T070000
END:DAYLIGHT
BEGIN:STANDARD
TZOFFSETFROM:-0400
TZOFFSETTO:-0500
TZNAME:EST
DTSTART:20261101T060000
END:STANDARD
END:VTIMEZONE
BEGIN:VEVENT
DTSTART;TZID=America/New_York:20250902T120000
DTEND;TZID=America/New_York:20250902T130000
DTSTAMP:20260421T120426
CREATED:20250519T155915Z
LAST-MODIFIED:20250519T155915Z
UID:20526-1756814400-1756818000@www.ftnys.org
SUMMARY:FPA Lived Experience Cafe
DESCRIPTION:Location: Zoom \nOccurs monthly on the first Tuesday from 12:00PM-1:00PM  \nLived Experience Cafe\nWhether you are new to your role or\nhave been a Family Peer Advocate\nfor many years\, the Lived Experience\nCafe is an FPA networking group to\nshare experiences\, innovative and\neffective practices\, knowledge and\nskills\, solution to barriers and\nchallenges\, and key information\nsupporting your role as Family Peer\nAdvocates! \nREGISTER HERE!
URL:https://www.ftnys.org/event/fpa-lived-experience-cafe-5/
END:VEVENT
END:VCALENDAR