BEGIN:VCALENDAR
VERSION:2.0
PRODID:-//Families Together in NYS - ECPv6.15.20//NONSGML v1.0//EN
CALSCALE:GREGORIAN
METHOD:PUBLISH
X-ORIGINAL-URL:https://www.ftnys.org
X-WR-CALDESC:Events for Families Together in NYS
REFRESH-INTERVAL;VALUE=DURATION:PT1H
X-Robots-Tag:noindex
X-PUBLISHED-TTL:PT1H
BEGIN:VTIMEZONE
TZID:America/New_York
BEGIN:DAYLIGHT
TZOFFSETFROM:-0500
TZOFFSETTO:-0400
TZNAME:EDT
DTSTART:20240310T070000
END:DAYLIGHT
BEGIN:STANDARD
TZOFFSETFROM:-0400
TZOFFSETTO:-0500
TZNAME:EST
DTSTART:20241103T060000
END:STANDARD
BEGIN:DAYLIGHT
TZOFFSETFROM:-0500
TZOFFSETTO:-0400
TZNAME:EDT
DTSTART:20250309T070000
END:DAYLIGHT
BEGIN:STANDARD
TZOFFSETFROM:-0400
TZOFFSETTO:-0500
TZNAME:EST
DTSTART:20251102T060000
END:STANDARD
BEGIN:DAYLIGHT
TZOFFSETFROM:-0500
TZOFFSETTO:-0400
TZNAME:EDT
DTSTART:20260308T070000
END:DAYLIGHT
BEGIN:STANDARD
TZOFFSETFROM:-0400
TZOFFSETTO:-0500
TZNAME:EST
DTSTART:20261101T060000
END:STANDARD
END:VTIMEZONE
BEGIN:VEVENT
DTSTART;TZID=America/New_York:20250919T090000
DTEND;TZID=America/New_York:20250919T113000
DTSTAMP:20260421T120602
CREATED:20250702T164411Z
LAST-MODIFIED:20250710T211117Z
UID:20792-1758272400-1758281400@www.ftnys.org
SUMMARY:25th Anniversary of LIFT Legislative Breakfast
DESCRIPTION:LIFT Legislative Breakfast\n\n\n\n\n\n\n\nSeptember 19th\, 2025\n9:00AM-11:30AM\nPresented by Long Island Families Together \n\n\nRegister Here
URL:https://www.ftnys.org/event/25th-anniversary-of-lift-legislative-breakfast/
END:VEVENT
BEGIN:VEVENT
DTSTART;TZID=America/New_York:20250919T103000
DTEND;TZID=America/New_York:20250919T123000
DTSTAMP:20260421T120602
CREATED:20250908T174024Z
LAST-MODIFIED:20250908T174024Z
UID:21099-1758277800-1758285000@www.ftnys.org
SUMMARY:Mental Health/Addiction & Recovery Townhall
DESCRIPTION:Mental Health/Addiction & Recovery\nSeptember 19 | 10:30 am – 12:30 PM \nCommissioner Anne Sullivan (OMH)\, Commissioner Chinazo Cunningham (OASAS)\, and Senator Samra Brouk (Committee on mental health chair). \n\n\nMental Health/ Addiction & Recovery Zoom Link
URL:https://www.ftnys.org/event/mental-health-addiction-recovery-townhall/
END:VEVENT
END:VCALENDAR