BEGIN:VCALENDAR
VERSION:2.0
PRODID:-//Families Together in NYS - ECPv6.15.20//NONSGML v1.0//EN
CALSCALE:GREGORIAN
METHOD:PUBLISH
X-ORIGINAL-URL:https://www.ftnys.org
X-WR-CALDESC:Events for Families Together in NYS
REFRESH-INTERVAL;VALUE=DURATION:PT1H
X-Robots-Tag:noindex
X-PUBLISHED-TTL:PT1H
BEGIN:VTIMEZONE
TZID:America/New_York
BEGIN:DAYLIGHT
TZOFFSETFROM:-0500
TZOFFSETTO:-0400
TZNAME:EDT
DTSTART:20240310T070000
END:DAYLIGHT
BEGIN:STANDARD
TZOFFSETFROM:-0400
TZOFFSETTO:-0500
TZNAME:EST
DTSTART:20241103T060000
END:STANDARD
BEGIN:DAYLIGHT
TZOFFSETFROM:-0500
TZOFFSETTO:-0400
TZNAME:EDT
DTSTART:20250309T070000
END:DAYLIGHT
BEGIN:STANDARD
TZOFFSETFROM:-0400
TZOFFSETTO:-0500
TZNAME:EST
DTSTART:20251102T060000
END:STANDARD
BEGIN:DAYLIGHT
TZOFFSETFROM:-0500
TZOFFSETTO:-0400
TZNAME:EDT
DTSTART:20260308T070000
END:DAYLIGHT
BEGIN:STANDARD
TZOFFSETFROM:-0400
TZOFFSETTO:-0500
TZNAME:EST
DTSTART:20261101T060000
END:STANDARD
END:VTIMEZONE
BEGIN:VEVENT
DTSTART;TZID=America/New_York:20250929T100000
DTEND;TZID=America/New_York:20250929T113000
DTSTAMP:20260421T103806
CREATED:20250912T170019Z
LAST-MODIFIED:20250912T170019Z
UID:21120-1759140000-1759145400@www.ftnys.org
SUMMARY:Real Talk\, Real Tools\, Real Support
DESCRIPTION:Join us for “Real Talk\, Real Tools\, Real Support\,” a training series for parents and caregivers. Delve into key topics with practical tools to support\, empower\, and connect families. \n1st Training: “Dadvocating” \nJoin us on September 29\, from 10:00 AM to 11:30 AM for “Dadvocating\,” a specialized training session aimed at empowering fathers and male caregivers. This engaging workshop will cover essential topics such as effective communication\, engagement strategies\, and advocacy techniques specific to the male caregiving experience. Participants will gain practical tools to help them become more active and confident advocates for their children\, learn to navigate challenges in parenting\, and strengthen their family connections. Don’t miss this opportunity to connect with other fathers and male caregivers while enhancing your parenting skills. \nSpaces are limited\, so we encourage you to register now to secure your spot.  \nRegister HERE\nhttps://us02web.zoom.us/meeting/register/JXa1DkDUQpugx1mIS8GfTg#/registration
URL:https://www.ftnys.org/event/real-talk-real-tools-real-support/
END:VEVENT
END:VCALENDAR