BEGIN:VCALENDAR
VERSION:2.0
PRODID:-//Families Together in NYS - ECPv6.15.20//NONSGML v1.0//EN
CALSCALE:GREGORIAN
METHOD:PUBLISH
X-WR-CALNAME:Families Together in NYS
X-ORIGINAL-URL:https://www.ftnys.org
X-WR-CALDESC:Events for Families Together in NYS
REFRESH-INTERVAL;VALUE=DURATION:PT1H
X-Robots-Tag:noindex
X-PUBLISHED-TTL:PT1H
BEGIN:VTIMEZONE
TZID:America/New_York
BEGIN:DAYLIGHT
TZOFFSETFROM:-0500
TZOFFSETTO:-0400
TZNAME:EDT
DTSTART:20240310T070000
END:DAYLIGHT
BEGIN:STANDARD
TZOFFSETFROM:-0400
TZOFFSETTO:-0500
TZNAME:EST
DTSTART:20241103T060000
END:STANDARD
BEGIN:DAYLIGHT
TZOFFSETFROM:-0500
TZOFFSETTO:-0400
TZNAME:EDT
DTSTART:20250309T070000
END:DAYLIGHT
BEGIN:STANDARD
TZOFFSETFROM:-0400
TZOFFSETTO:-0500
TZNAME:EST
DTSTART:20251102T060000
END:STANDARD
BEGIN:DAYLIGHT
TZOFFSETFROM:-0500
TZOFFSETTO:-0400
TZNAME:EDT
DTSTART:20260308T070000
END:DAYLIGHT
BEGIN:STANDARD
TZOFFSETFROM:-0400
TZOFFSETTO:-0500
TZNAME:EST
DTSTART:20261101T060000
END:STANDARD
END:VTIMEZONE
BEGIN:VEVENT
DTSTART;TZID=America/New_York:20251009T090000
DTEND;TZID=America/New_York:20251009T110000
DTSTAMP:20260421T103130
CREATED:20250912T162128Z
LAST-MODIFIED:20250912T162128Z
UID:21114-1760000400-1760007600@www.ftnys.org
SUMMARY:In-person Community Engagement Sessions
DESCRIPTION:The New York State Office of Mental Health (OMH) is partnering with the Western New York Departments of Community Services to host in-person Community Engagement Sessions on Oct. 8-10\, 2025. The 2023 Community Engagement Sessions took OMH across New York. Now\, we are returning to share what we did with your feedback and hear more about your needs and your ideas! There will be sessions in Hornell\, Rochester\, Buffalo\, and Ithaca.  \n\n\n  \n\n\nThe sessions are open to all community members! We especially want to hear from people who receive or have received mental health services\, and people who have wanted to get services but haven’t. Children\, youth\, adults\, older adults\, and families are encouraged to attend. There will be breakout groups specifically for young people. If you are a peer or other mental health provider\, advocate\, or anyone else who works with groups or people who may be interested\, please share this information with them! \n\n\n  \n\n\nPlease register in advance by clicking on the location you’d like to attend below. The registration form has space to describe any accessibility needs you have. If you need ASL or other language interpretation\, please register by Sept. 19 or reach out to feedbackoapss@omh.ny.gov as soon as possible. \n\n\n  \n\n\nSession Details:  \n\n\nWednesday\, Oct. 8\, 6-8 p.m. and Thursday\, Oct. 9\, 9-11 a.m.  \n\n\n\nRochester Central Library\, 115 South Ave\, Rochester\, NY\, 14605\n\n\n\n\nHornell Community Arts Center\, 58 Broadway Mall\, Hornell\, NY\, 14843\n\n\n\n  \n\n\nThursday\, Oct. 9\, 6-8 p.m. and Friday\, Oct. 10\, 9-11 a.m.  \n\n\n\nBuffalo & Erie County Public Library\, 1 Lafayette Square\, Buffalo\, NY\, 14203\n\n\n\n\nTompkins County Public Library\, 101 E Green St\, Ithaca\, NY\, 14850\n\n\n\n  \n\n\nRegister Here! https://tinyurl.com/nhf7avdv \n\n\n  \n\n\n             \n\n\n  \n\n\n  \n\n\n 
URL:https://www.ftnys.org/event/in-person-community-engagement-sessions-2/
END:VEVENT
BEGIN:VEVENT
DTSTART;TZID=America/New_York:20251009T180000
DTEND;TZID=America/New_York:20251009T200000
DTSTAMP:20260421T103130
CREATED:20250912T162321Z
LAST-MODIFIED:20250912T162321Z
UID:21116-1760032800-1760040000@www.ftnys.org
SUMMARY:In-Person Community Engagement Session
DESCRIPTION:The New York State Office of Mental Health (OMH) is partnering with the Western New York Departments of Community Services to host in-person Community Engagement Sessions on Oct. 8-10\, 2025. The 2023 Community Engagement Sessions took OMH across New York. Now\, we are returning to share what we did with your feedback and hear more about your needs and your ideas! There will be sessions in Hornell\, Rochester\, Buffalo\, and Ithaca.  \n\n\n  \n\n\nThe sessions are open to all community members! We especially want to hear from people who receive or have received mental health services\, and people who have wanted to get services but haven’t. Children\, youth\, adults\, older adults\, and families are encouraged to attend. There will be breakout groups specifically for young people. If you are a peer or other mental health provider\, advocate\, or anyone else who works with groups or people who may be interested\, please share this information with them! \n\n\n  \n\n\nPlease register in advance by clicking on the location you’d like to attend below. The registration form has space to describe any accessibility needs you have. If you need ASL or other language interpretation\, please register by Sept. 19 or reach out to feedbackoapss@omh.ny.gov as soon as possible. \n\n\n  \n\n\nSession Details:  \n\n\nWednesday\, Oct. 8\, 6-8 p.m. and Thursday\, Oct. 9\, 9-11 a.m.  \n\n\n\nRochester Central Library\, 115 South Ave\, Rochester\, NY\, 14605\n\n\n\n\nHornell Community Arts Center\, 58 Broadway Mall\, Hornell\, NY\, 14843\n\n\n\n  \n\n\nThursday\, Oct. 9\, 6-8 p.m. and Friday\, Oct. 10\, 9-11 a.m.  \n\n\n\nBuffalo & Erie County Public Library\, 1 Lafayette Square\, Buffalo\, NY\, 14203\n\n\n\n\nTompkins County Public Library\, 101 E Green St\, Ithaca\, NY\, 14850\n\n\n\n  \n\n\nRegister Here! https://tinyurl.com/nhf7avdv \n\n\n  \n\n\n             \n\n\n  \n\n\n  \n\n\n 
URL:https://www.ftnys.org/event/in-person-community-engagement-session/
END:VEVENT
END:VCALENDAR